BEGIN:VCALENDAR
VERSION:2.0
PRODID:icalendar-ruby
CALSCALE:GREGORIAN
METHOD:PUBLISH
BEGIN:VEVENT
DTSTAMP:20260421T003005Z
UID:20-105072@nameoutreach.com
DTSTART:20260923T010000Z
DTEND:20260923T020000Z
CLASS:PUBLIC
CREATED:20260420T164956
DESCRIPTION:Dinner Church\n\nJoin us at Dinner Church every Tuesday at 6pm 
 for an evening of shared meals\, meaningful conversations\, worship\, and 
 a short Jesus story. This is a unique opportunity to connect with the comm
 unity as we gather around the table with old and new friends. The meals sh
 ared with people we love become a sacred space and the tables become a sym
 bol of God’s grace and goodness. There is fellowship\, worship\, prayer\
 , and the love of God. All are welcome.\nSharing a meal is more than food\
 , it’s fuel for the soul.\n\n\nIt’s a place of connection and there is
  a seat for everyone.\n
LAST-MODIFIED:20260420T164956
LOCATION:514 Main St Lapwai\, ID - The Court
SUMMARY:Dinner Church
URL;VALUE=URI:https://www.nameoutreach.com/events/dinner-church--20/2026-09
 -22
ATTACH;FILENAME=dinnerchurchbw.jpeg;FMTTYPE=image/jpeg:https://dq5pwpg1q8ru
 0.cloudfront.net/2026/03/04/09/19/09/a254372e-a623-48c8-846d-2f6f6d59da36/
 dinnerchurchbw.jpeg
END:VEVENT
END:VCALENDAR
