BEGIN:VCALENDAR
VERSION:2.0
PRODID:icalendar-ruby
CALSCALE:GREGORIAN
METHOD:PUBLISH
BEGIN:VEVENT
DTSTAMP:20260423T081832Z
UID:19-106290@nameoutreach.com
DTSTART:20260920T173000Z
DTEND:20260920T183000Z
CLASS:PUBLIC
CREATED:20260422T183317
DESCRIPTION:Family Church\nYou and your family and friends are invited to j
 oin us every Sunday morning at 10:30am for a impactful\, corporate time of
  lively worship\, amazing testimonies\, relevant Word and powerful prayer.
  
LAST-MODIFIED:20260422T183317
LOCATION:514 Main St Lapwai\, ID 83540 - The Cave
SUMMARY:Family Church
URL;VALUE=URI:https://www.nameoutreach.com/events/family-church--19/2026-09
 -20
ATTACH;FILENAME=familychurch.jpeg;FMTTYPE=image/jpeg:https://dq5pwpg1q8ru0.
 cloudfront.net/2026/03/04/09/01/31/6c09c1d1-070a-4216-ab18-3bb129089b81/fa
 milychurch.jpeg
END:VEVENT
END:VCALENDAR
