BEGIN:VCALENDAR
VERSION:2.0
PRODID:icalendar-ruby
CALSCALE:GREGORIAN
METHOD:PUBLISH
BEGIN:VEVENT
DTSTAMP:20260425T113604Z
UID:19-107661@nameoutreach.com
DTSTART:20261101T183000Z
DTEND:20261101T193000Z
CLASS:PUBLIC
CREATED:20260425T035804
DESCRIPTION:Family Church\nYou and your family and friends are invited to j
 oin us every Sunday morning at 10:30am for a impactful\, corporate time of
  lively worship\, amazing testimonies\, relevant Word and powerful prayer.
  
LAST-MODIFIED:20260425T035804
LOCATION:514 Main St Lapwai\, ID 83540 - The Cave
SUMMARY:Family Church
URL;VALUE=URI:https://www.nameoutreach.com/events/family-church--19/2026-11
 -01
ATTACH;FILENAME=familychurch.jpeg;FMTTYPE=image/jpeg:https://dq5pwpg1q8ru0.
 cloudfront.net/2026/03/04/09/01/31/6c09c1d1-070a-4216-ab18-3bb129089b81/fa
 milychurch.jpeg
END:VEVENT
END:VCALENDAR
