BEGIN:VCALENDAR
VERSION:2.0
PRODID:icalendar-ruby
CALSCALE:GREGORIAN
METHOD:PUBLISH
BEGIN:VEVENT
DTSTAMP:20260420T234802Z
UID:21-105003@nameoutreach.com
DTSTART:20260922T010000Z
DTEND:20260922T020000Z
CLASS:PUBLIC
CREATED:20260420T141455
DESCRIPTION:Next Gen Disciples\nNext Generation Disciples is our student mi
 nistry for ages 12-30 that meet weekly on Mondays at 6pm for Bible Study\,
  food\, fellowship and sometimes games or arts/crafts\nNext Gen Disciples 
 is committed to being vessels of God\, finding our identity in Christ\, le
 arning His Word\, and walking in His truth. We are devoted to equipping th
 e next generation to rise boldly as disciples who live to glorify Him.
LAST-MODIFIED:20260420T141455
LOCATION:514 Main St Lapwai\, ID 83540 - The Cafe
SUMMARY:Next Gen Disciples
URL;VALUE=URI:https://www.nameoutreach.com/events/next-gen-disciples--21/20
 26-09-21
ATTACH;FILENAME=NextGen.jpg;FMTTYPE=image/jpeg:https://dq5pwpg1q8ru0.cloudf
 ront.net/2026/03/04/09/32/54/e9e5df8f-ee9a-4dcf-873c-43b7b9e190c2/NextGen.
 jpg
END:VEVENT
END:VCALENDAR
